{"text_format":"1","workbook":"xlsx","n_sheets":2,"sheets":["RAPOR SAYFASI","VERI GIRISI"],"not_rendered":{"charts":0,"images":1,"macros":1,"external_links":0,"defined_names":6,"comments":1,"pivot_tables":0},"unopened":[],"bounds":{"document_bytes":16777216,"sheet_cells":100000,"rows_first":2000,"rows_last":500,"rows_between":2000,"halvings":0,"cell_chars":16384,"cell_head_chars":4096},"cells_cut":0,"cells_raw":0,"read":"whole","date_system":"1900"}

{"sheet":"RAPOR SAYFASI","index":0,"n_rows":48,"n_cols":16,"rows_kept":48,"cut":false,"hidden":false,"merged":[[0,0,2,9],[0,10,2,16],[4,0,4,16],[5,1,5,8],[5,9,5,16],[6,1,6,8],[6,9,6,16],[36,15,36,16],[10,1,10,4],[10,5,10,8],[10,9,10,12],[11,1,11,4],[11,5,11,8],[11,9,11,12],[7,1,7,8],[7,9,7,16],[8,1,8,4],[8,5,8,8],[8,9,8,12],[9,1,9,4],[9,5,9,8],[9,9,9,12],[12,1,12,16],[14,6,14,16],[15,0,15,2],[15,3,15,16],[16,1,18,4],[16,5,16,16],[17,5,18,7],[17,8,18,10],[17,11,18,13],[17,14,18,16],[19,1,19,4],[19,5,19,7],[19,8,19,10],[19,11,19,13],[19,14,19,16],[20,1,20,4],[20,5,20,7],[20,8,20,10],[20,11,20,13],[20,14,20,16],[21,1,21,4],[21,5,21,7],[21,8,21,10],[21,11,21,13],[21,14,21,16],[22,1,22,4],[22,5,22,7],[22,8,22,10],[22,11,22,13],[22,14,22,16],[23,1,23,4],[23,5,23,7],[23,8,23,10],[23,11,23,13],[23,14,23,16],[26,0,26,9],[26,10,26,12],[26,13,26,16],[27,0,27,2],[27,4,27,16],[28,0,28,2],[28,4,28,16],[31,8,31,13],[24,1,24,4],[24,5,24,7],[24,8,24,10],[24,11,24,13],[24,14,24,16],[29,0,29,2],[29,4,29,16],[30,0,30,2],[30,4,30,16],[31,0,31,6],[31,15,31,16],[34,15,34,16],[35,15,35,16],[32,0,32,6],[32,15,32,16],[33,0,33,6],[33,15,33,16],[32,8,32,13],[33,8,33,13],[34,8,34,13],[35,8,35,13],[34,0,35,3],[34,4,35,7],[41,8,41,10],[41,11,41,13],[47,9,47,16],[43,0,43,16],[44,9,44,16],[45,9,45,16],[46,9,46,16],[36,8,36,13],[38,8,38,10],[38,11,38,13],[38,14,38,16],[39,14,39,16],[40,14,40,16],[41,14,41,16],[39,8,39,10],[39,11,39,13],[40,8,40,10],[40,11,40,13],[36,0,37,3],[36,4,37,7],[37,15,37,16],[37,8,37,13]]}
["KANAL KAÇAK TESTİ",null,null,null,null,null,null,null,null,null,"ACAR HAKAN BAYRAMOĞLU\n(0532) 546 9890"]
[]
[]
[]
["DW142 - TABLO 2"]
[null,"HAVA KAÇAĞI",null,null,null,null,null,null,null,"KAÇAK LİMİTLERİ"]
[null,1,null,null,null,null,null,null,null,2]
[null,"SINIFLANDIRMA (CLASSIFICATION)",null,null,null,null,null,null,null,"L/s.m²"]
[null,"DÜŞÜK BASINÇ",null,null,null,"CLASS A",null,null,null,2.7E-2,null,null,null,"x","ΔP2",0.65]
[null,"ORTA BASINÇ",null,null,null,"CLASS B",null,null,null,8.9999999999999993E-3,null,null,null,"x","ΔP2",0.65]
[null,"YÜKSEK BASINÇ",null,null,null,"CLASS C",null,null,null,3.0000000000000001E-3,null,null,null,"x","ΔP2",0.65]
[null,"YÜKSEK BASINÇ",null,null,null,"CLASS D",null,null,null,1E-3,null,null,null,"x","ΔP2",0.65]
[null,"p değeri Pascal cinsinden diferansiyel basınç değeri olarak alınır."]
[]
["SIZDIRMAZLIK SINIFI",null,null,null,null,":",{"$f":"'VERI GIRISI'!C12","v":"C"}]
["DW 142 TABLO 32",null,null,"Önerilen maximum test basınçları (sızdırmazlık oranlarıyla)"]
[null,"Statik                                      Basınç                                             Farkı (Pa)",null,null,null,"Maximum kanal kaçakları (L/s.m²)"]
[null,null,null,null,null,"CLASS A",null,null,"CLASS B",null,null,"CLASS C",null,null,"CLASS D"]
[]
[null,200,null,null,null,{"$f":"$J$9*POWER(B20,$P$9)","v":0.84534358506691021},null,null,{"$f":"$J$10*POWER(B20,$P$10)","v":0.28178119502230337},null,null,{"$f":"$J$11*POWER(B20,$P$11)","v":9.3927065007434474E-2},null,null,{"$f":"$J$12*POWER(B20,$P$12)","v":3.1309021669144822E-2}]
[null,400,null,null,null,1.3264862682050538,null,null,0.44216208940168461,null,null,0.14738736313389489,null,null,4.9129121044631623E-2]
[null,600,null,null,null,1.7264820877672575,null,null,0.57549402925575244,null,null,0.19183134308525082,null,null,6.3943781028416941E-2]
[null,800,null,null,null,2.081480064224178,null,null,0.69382668807472603,null,null,0.23127556269157534,null,null,7.7091854230525114E-2]
[null,1000,null,null,null,2.406377532961113,null,null,0.80212584432037104,null,null,0.26737528144012368,null,null,8.9125093813374565E-2]
[null,1200,null,null,null,2.7091407827315437,null,null,0.90304692757718119,null,null,0.3010156425257271,null,null,0.10033854750857571]
[]
["TEST SONUÇLARI",null,null,null,null,null,null,null,null,null,"TARİH :",null,null,{"$f":"IF('VERI GIRISI'!C3<0,\"\",T)","v":"2018-04-28"}]
["PROJE",null,null,":",{"$f":"mekan","v":"TANGANIKA MEMORIAL HOSPITAL"}]
["BÖLÜM / MEKAN",null,null,":",{"$f":"+bolum","v":"KAT 2 / 10 YATAKLI ICU (L2.M.139)"}]
["KANAL TEST KODU",null,null,":",{"$f":"+kk","v":"L2-PASLANMAZ-065"}]
["TEST CİHAZI",null,null,":",{"$f":"+chz","v":"TTBJ-5"}]
["KANAL YÜZEY ALANI",null,null,null,null,null,null,null,{"$f":"'VERI GIRISI'!C11","v":100},null,null,null,null,null,null,"m²"]
["KANAL DİFERANSİYEL BASINÇ DEĞERİ",null,null,null,null,null,null,null,{"$f":"'VERI GIRISI'!C13","v":1000},null,null,null,null,null,null,"Pa"]
["DİYAFRAM BASINÇ FARKI",null,null,null,null,null,null,null,{"$f":"+'VERI GIRISI'!C15","v":100},null,null,null,null,null,null,"Pa"]
["TOPLAM KANAL KAÇAĞI",null,null,null,"(Q=KATSAYI x √ ΔP2)",null,null,null,{"$f":"OR*SQRT(I34)","v":89.78},null,null,null,null,null,null,"m³/h"]
[null,null,null,null,null,null,null,null,{"$f":"I35*1000/3600","v":24.93888888888889},null,null,null,null,null,null,"L/s"]
["ÖLÇÜLEN KAÇAK MİKTARI",null,null,null,"(1 m² için)",null,null,null,{"$f":"I36/I32","v":0.24938888888888891},null,null,null,null,null,null,"L/s.m²"]
[null,null,null,null,null,null,null,null,{"$f":"I37*3.6","v":0.89780000000000004},null,null,null,null,null,null,"m³/h.m²"]
["MÜSAADE EDİLEN MİKTAR                           CLASS A",null,null,null,null,null,"CLASS A",null,{"$f":"(POWER($I$33,P9))*J9","v":2.406377532961113},null,null,{"$f":"IF('VERI GIRISI'!C9=8.978,((($I$32*I39*3.6)*($I$32*I39*3.6))/('VERI GIRISI'!C9*'VERI GIRISI'!C9)),((($I$32*I39)*($I$32*I39))/('VERI GIRISI'!C9*'VERI GIRISI'!C9)))","v":9310.5069305542056},null,null,{"$f":"$I$32*I39*3.6","v":866.29591186600067}]
["MÜSAADE EDİLEN MİKTAR                           CLASS A",null,null,null,null,null,"CLASS B",null,{"$f":"(POWER($I$33,P10))*J10","v":0.80212584432037104},null,null,{"$f":"IF('VERI GIRISI'!C9=8.978,((($I$32*I40*3.6)*($I$32*I40*3.6))/('VERI GIRISI'!C9*'VERI GIRISI'!C9)),((($I$32*I40)*($I$32*I40))/('VERI GIRISI'!C9*'VERI GIRISI'!C9)))","v":1034.5007700615786},null,null,{"$f":"$I$32*I40*3.6","v":288.76530395533359}]
["MÜSAADE EDİLEN MİKTAR                           CLASS A",null,null,null,null,null,"CLASS C",null,{"$f":"(POWER($I$33,P11))*J11","v":0.26737528144012368},null,null,{"$f":"IF('VERI GIRISI'!C9=8.978,((($I$32*I41*3.6)*($I$32*I41*3.6))/('VERI GIRISI'!C9*'VERI GIRISI'!C9)),((($I$32*I41)*($I$32*I41))/('VERI GIRISI'!C9*'VERI GIRISI'!C9)))","v":114.94453000684209},null,null,{"$f":"$I$32*I41*3.6","v":96.255101318444531}]
["MÜSAADE EDİLEN MİKTAR                           CLASS A",null,null,null,null,null,"CLASS D",null,{"$f":"(POWER($I$33,P12))*J12","v":8.9125093813374565E-2},null,null,{"$f":"IF('VERI GIRISI'!C9=8.978,((($I$32*I42*3.6)*($I$32*I42*3.6))/('VERI GIRISI'!C9*'VERI GIRISI'!C9)),((($I$32*I42)*($I$32*I42))/('VERI GIRISI'!C9*'VERI GIRISI'!C9)))","v":12.771614445204671},null,null,{"$f":"$I$32*I42*3.6","v":32.085033772814839}]
[]
["TEST SONUCU AÇIKLAMASI"]
[null,null,"CLASS A","'YA GÖRE",null,null,null,{"$f":"IF(J45=\"Kaçak Miktarı Uygundur\",\"P\",\"O\")","v":"P"},":",{"$f":"IF(I39>$I$37,\"Kaçak Miktarı Uygundur\",\"Kaçak Miktarı Uygun Değildir\")","v":"Kaçak Miktarı Uygundur"}]
[null,null,"CLASS B","'YE GÖRE",null,null,null,{"$f":"IF(J46=\"Kaçak Miktarı Uygundur\",\"P\",\"O\")","v":"P"},":",{"$f":"IF(I40>$I$37,\"Kaçak Miktarı Uygundur\",\"Kaçak Miktarı Uygun Değildir\")","v":"Kaçak Miktarı Uygundur"}]
[null,null,"CLASS C","'YE GÖRE",null,null,null,{"$f":"IF(J47=\"Kaçak Miktarı Uygundur\",\"P\",\"O\")","v":"P"},":",{"$f":"IF(I41>$I$37,\"Kaçak Miktarı Uygundur\",\"Kaçak Miktarı Uygun Değildir\")","v":"Kaçak Miktarı Uygundur"}]
[null,null,"CLASS D","'YE GÖRE",null,null,null,{"$f":"IF(J48=\"Kaçak Miktarı Uygundur\",\"P\",\"O\")","v":"O"},":",{"$f":"IF(I42>$I$37,\"Kaçak Miktarı Uygundur\",\"Kaçak Miktarı Uygun Değildir\")","v":"Kaçak Miktarı Uygun Değildir"}]

{"sheet":"VERI GIRISI","index":1,"n_rows":16,"n_cols":3,"rows_kept":16,"cut":false,"hidden":false,"merged":[[17,2,19,2],[0,0,0,2],[2,0,2,1],[3,0,3,1],[4,0,4,1],[5,0,5,1],[7,0,7,1],[8,0,8,1],[10,0,10,1],[11,0,11,1],[12,0,12,1],[14,0,14,1],[15,0,15,1]]}
["VERİ GİRİŞİ"]
[]
["TARİH",null,"2018-04-28"]
["PROJE",null,"TANGANIKA MEMORIAL HOSPITAL"]
["BÖLÜM / MEKAN",null,"KAT 2 / 10 YATAKLI ICU (L2.M.139)"]
["KANAL TEST KODU",null,"L2-PASLANMAZ-065"]
[]
["TEST CİHAZI",null,"TTBJ-5"]
["DİYAFRAM KATSAYISI",null,8.9779999999999998]
[]
["KANAL METRAJI",null,100]
["SIZDIRMAZLIK SINIFI",null,"C"]
["TEST BASINCI",null,1000]
["MÜSAADE EDİLEN KAÇAK","BURAYA VERİ GİRMEYİNİZ",{"$f":"IF(C12=\"A\",'RAPOR SAYFASI'!L39,IF('VERI GIRISI'!C12=\"B\",'RAPOR SAYFASI'!L40,IF('VERI GIRISI'!C12=\"C\",'RAPOR SAYFASI'!L41,IF('VERI GIRISI'!C12=\"D\",'RAPOR SAYFASI'!L42,0))))","v":114.94453000684209}]
["MANOMETRE KAÇAK DEĞERİ",null,100]
["TEST SONUCU",null,{"$f":"IF(C12=\"D\",'RAPOR SAYFASI'!J48,IF(C12=\"C\",'RAPOR SAYFASI'!J47,IF(C12=\"B\",'RAPOR SAYFASI'!J46,IF(C12=\"A\",'RAPOR SAYFASI'!J45))))","v":"Kaçak Miktarı Uygundur"}]